BEGIN:VCALENDAR
VERSION:2.0
PRODID:-//Nine Mile Creek Watershed District - ECPv6.15.20//NONSGML v1.0//EN
CALSCALE:GREGORIAN
METHOD:PUBLISH
X-WR-CALNAME:Nine Mile Creek Watershed District
X-ORIGINAL-URL:https://www.ninemilecreek.org
X-WR-CALDESC:Events for Nine Mile Creek Watershed District
REFRESH-INTERVAL;VALUE=DURATION:PT1H
X-Robots-Tag:noindex
X-PUBLISHED-TTL:PT1H
BEGIN:VTIMEZONE
TZID:America/Menominee
BEGIN:DAYLIGHT
TZOFFSETFROM:-0600
TZOFFSETTO:-0500
TZNAME:CDT
DTSTART:20250309T080000
END:DAYLIGHT
BEGIN:STANDARD
TZOFFSETFROM:-0500
TZOFFSETTO:-0600
TZNAME:CST
DTSTART:20251102T070000
END:STANDARD
BEGIN:DAYLIGHT
TZOFFSETFROM:-0600
TZOFFSETTO:-0500
TZNAME:CDT
DTSTART:20260308T080000
END:DAYLIGHT
BEGIN:STANDARD
TZOFFSETFROM:-0500
TZOFFSETTO:-0600
TZNAME:CST
DTSTART:20261101T070000
END:STANDARD
BEGIN:DAYLIGHT
TZOFFSETFROM:-0600
TZOFFSETTO:-0500
TZNAME:CDT
DTSTART:20270314T080000
END:DAYLIGHT
BEGIN:STANDARD
TZOFFSETFROM:-0500
TZOFFSETTO:-0600
TZNAME:CST
DTSTART:20271107T070000
END:STANDARD
END:VTIMEZONE
BEGIN:VEVENT
DTSTART;TZID=America/Menominee:20260502T130000
DTEND;TZID=America/Menominee:20260502T150000
DTSTAMP:20260423T045834
CREATED:20260414T182627Z
LAST-MODIFIED:20260417T151222Z
UID:10000004-1777726800-1777734000@www.ninemilecreek.org
SUMMARY:Valley Park Creek Cleanup
DESCRIPTION:RSVP: fill out form below. Email Gael with questions gzembal@ninemilecreek.org \nHelp pick up trash along Nine Mile Creek in Valley Park\, Hopkins. Gloves\, high visibility vests\, bags and trash grabbers will be provided. Light refreshments will also be available for volunteers. Please fill out the form so we know how much equipment to bring. \nMeet by the large playground in Valley Park\, next to the shelter with restrooms attached. \nVolunteers will be asked to fill out a waiver in order to participate. This will be provided in an email ahead of time. \n  \n\nFill out my online form.\n\n  Fill out my Wufoo form!
URL:https://www.ninemilecreek.org/event/valley-park-creek-cleanup/
LOCATION:Valley Park Playground\, 700 8th St S\, Hopkins\, MN\, 55343\, United States
END:VEVENT
BEGIN:VEVENT
DTSTART;TZID=America/Menominee:20260506T173000
DTEND;TZID=America/Menominee:20260506T193000
DTSTAMP:20260423T045834
CREATED:20260414T182724Z
LAST-MODIFIED:20260414T182724Z
UID:10000005-1778088600-1778095800@www.ninemilecreek.org
SUMMARY:Board Workshop
DESCRIPTION:Agenda: TBD \nPlease note that pursuant to Minnesota Statutes section 13D.02\, subdivision 1\, a manager or managers may attend a meeting or workshop of the NMCWD Board of Managers by interactive technology (e.g.\, Teams). At least one manager will be physically present at the meeting location\, and everyone attending the meeting by interactive technology will be able to see and hear all manager discussion and testimony. \nMembers of the public are welcome to attend in-person or virtually. \nJoin Meeting via Microsoft Teams: \nJoin on your computer\, mobile app or room device \nClick here to join the meeting \nMeeting ID: 250 431 277 25\nPasscode: AgcdmS \nDownload Teams | Join on the web \nOr call in (audio only)\n+1 320-460-1695\nPhone Conference ID: 711 273 712# \n  \nFind past meeting minutes here: www.ninemilecreek.org/about-us/board-minutes/
URL:https://www.ninemilecreek.org/event/board-workshop/
LOCATION:Nine Mile Creek Watershed District Office\, 12800 Gerard Drive\, Eden Prairie\, 55346\, United States
END:VEVENT
BEGIN:VEVENT
DTSTART;TZID=America/Menominee:20260513T170000
DTEND;TZID=America/Menominee:20260513T190000
DTSTAMP:20260423T045834
CREATED:20260414T182806Z
LAST-MODIFIED:20260414T182806Z
UID:10000006-1778691600-1778698800@www.ninemilecreek.org
SUMMARY:Equity Workgroup Meeting
DESCRIPTION:Agenda: Agenda will be posted when available \n\n\n  \n\n\nMeeting is open to the public. Masks are optional.
URL:https://www.ninemilecreek.org/event/equity-workgroup-meeting/
LOCATION:Nine Mile Creek Discovery Point\, 12800 Gerard Dr.\, Eden Prairie\, MN\, 55346\, United States
END:VEVENT
BEGIN:VEVENT
DTSTART;TZID=America/Menominee:20260520T173000
DTEND;TZID=America/Menominee:20260520T193000
DTSTAMP:20260423T045834
CREATED:20260407T171235Z
LAST-MODIFIED:20260416T153311Z
UID:10000001-1779298200-1779305400@www.ninemilecreek.org
SUMMARY:Board Meeting
DESCRIPTION:Nine Mile Creek Watershed District Board Meeting\nThe Nine Mile Creek Watershed District Board of Managers’ in-person meeting location is at the Nine Mile Watershed District office (12800 Gerard Dr\, Eden Prairie\, MN 55346). \nPlease note that pursuant to Minnesota Statutes section 13D.02\, subdivision 1\, a manager or managers may attend a meeting or workshop of the NMCWD Board of Managers by interactive technology (e.g.\, Teams). At least one manager will be physically present at the meeting location\, and everyone attending the meeting by interactive technology will be able to see and hear all manager discussion and testimony. \nMembers of the public are welcome to attend in-person or virtually. \nAgenda: TBD \nClick the link below to attend virtually via Microsoft Teams: \nClick here to join the meeting \nMeeting ID: 237 282 197 395\nPasscode: VDi6ph \nDownload Teams | Join on the web \nOr call in (audio only):\n320-460-1695\nPhone Conference ID: 315 248 535# \nTo comment at the meeting: Members of the public are invited to address the managers on any watershed matter or concern that is not otherwise on the agenda. Please limit your comments to three (3) minutes or less. If the matter or concern you are raising requires further attention from the board\, the managers will schedule it for a future meeting. The managers will take no action on matters raised during the public open forum. \nInterested persons may address the managers on an agenda item at the chair’s discretion. If you would like to address a matter on the agenda for the meeting\, please email the administrator prior to 4 p.m. on the day of the meeting at esniegowski@ninemilecreek.org and provide your name\, address\, and phone number and identify the agenda item you wish to speak on. If you are representing a group\, please consider appointing one person to provide comments on behalf of the group\, unless a member has something different to add. Please limit your comments to no more than three (3) minutes. \nFind past meeting minutes here: www.ninemilecreek.org/about-us/board-minutes/
URL:https://www.ninemilecreek.org/event/board-meeting/
LOCATION:Nine Mile Creek Watershed District Office\, 12800 Gerard Drive\, Eden Prairie\, 55346\, United States
END:VEVENT
BEGIN:VEVENT
DTSTART;TZID=America/Menominee:20260810T173000
DTEND;TZID=America/Menominee:20260810T203000
DTSTAMP:20260423T045834
CREATED:20260417T151151Z
LAST-MODIFIED:20260417T151151Z
UID:10000007-1786383000-1786393800@www.ninemilecreek.org
SUMMARY:Summer Project Tour 2026
DESCRIPTION:Join NMCWD staff on a tour of recent and ongoing projects around the watershed. Official route TBD\, but will include stops in Hopkins and Minnetonka. \nWho should attend: Elected and appointed officials\, commission members\, municipal staff\, and watershed volunteers \nOptional dinner and networking will start at 5:30 at Shady Oak Lake-if you would like to attend that\, please indicate on the RSVP form below. \nOur coach bus will leave on the tour at 6pm and return by 8:30 to Shady Oak Lake. \nNMCWD Board managers and Community Advisory Committee members will be in attendance. \nRegister here:\n\nFill out my online form.\n\n  Fill out my Wufoo form!
URL:https://www.ninemilecreek.org/event/summer-project-tour-2026/
LOCATION:Shady Oak Beach and Picnic Area\, 5200 Shady Oak Rd\, Minnetonka\,\, MN\, 55343
END:VEVENT
END:VCALENDAR